BEGIN:VCALENDAR
VERSION:2.0
PRODID:-//Ohene Darko - ECPv6.15.12.2//NONSGML v1.0//EN
CALSCALE:GREGORIAN
METHOD:PUBLISH
X-ORIGINAL-URL:https://ejohenedarko.com
X-WR-CALDESC:Events for Ohene Darko
REFRESH-INTERVAL;VALUE=DURATION:PT1H
X-Robots-Tag:noindex
X-PUBLISHED-TTL:PT1H
BEGIN:VTIMEZONE
TZID:UTC
BEGIN:STANDARD
TZOFFSETFROM:+0000
TZOFFSETTO:+0000
TZNAME:UTC
DTSTART:20240101T000000
END:STANDARD
END:VTIMEZONE
BEGIN:VEVENT
DTSTART;TZID=UTC:20250421T080000
DTEND;TZID=UTC:20250421T170000
DTSTAMP:20260421T082221
CREATED:20250416T132311Z
LAST-MODIFIED:20250416T132311Z
UID:1841-1745222400-1745254800@ejohenedarko.com
SUMMARY:Bosomtwe Inter Church Games and Family Party
DESCRIPTION:
URL:https://ejohenedarko.com/calendar/bosomtwe-inter-church-games-and-family-party/
LOCATION:Aputuogya Government School Park\, Ghana
END:VEVENT
END:VCALENDAR